BEGIN:VCALENDAR
PRODID:-//LVH3iCalGenerator
VERSION:2.0
METHOD:PUBLISH
BEGIN:VEVENT
UID:20260420T092517Z-1789111-1872310@lvh3.org.uk
SUMMARY:Lune Valley H3 - Run 938
LOCATION:
DESCRIPTION:Hares: Bedtime Stories, Big Fish, Spare Bed & Spare Rib
CLASS:PUBLIC
DTSTART:20260510T100000Z
DTSTAMP:20260420T102517Z
DTEND:20260510T120000Z
END:VEVENT
END:VCALENDAR
