BEGIN:VCALENDAR
PRODID:-//LVH3iCalGenerator
VERSION:2.0
METHOD:PUBLISH
BEGIN:VEVENT
UID:20260420T093011Z-5722350-1883906@lvh3.org.uk
SUMMARY:Lune Valley H3 - Run 939
LOCATION:
CLASS:PUBLIC
DTSTART:20260524T100000Z
DTSTAMP:20260420T103011Z
DTEND:20260524T120000Z
END:VEVENT
END:VCALENDAR
