BEGIN:VCALENDAR
PRODID:-//LVH3iCalGenerator
VERSION:2.0
METHOD:PUBLISH
BEGIN:VEVENT
UID:20260420T093227Z-2600559-1888543@lvh3.org.uk
SUMMARY:Lune Valley H3 - Run 940
LOCATION:
DESCRIPTION:Hares: Sir Tom Tom
CLASS:PUBLIC
DTSTART:20260531T100000Z
DTSTAMP:20260420T103227Z
DTEND:20260531T120000Z
END:VEVENT
END:VCALENDAR
